BEGIN:VCALENDAR
VERSION:2.0
PRODID:-//wp-events-plugin.com//7.2.3.1//EN
BEGIN:VEVENT
UID:75@clube-swim4fun.pt
DTSTART;VALUE=DATE:20251030
DTEND;VALUE=DATE:20251201
DTSTAMP:20251112T100027Z
URL:https://clube-swim4fun.pt/events/piscinas-jamor-novembro/
SUMMARY:Piscinas Jamor - NOVEMBRO
DESCRIPTION:Horários dos Treinos\n\n 	Terça-feira | 20h30 - 21h30 | Pisci
 na 50m - NOVO\n 	Quarta-feira | 7h - 8h | Piscina 25m\n 	Quinta-feira | 21
 h - 22h | Piscina 50m\n 	Sexta-feira | 13h30 - 14h30 | Piscina de 50m - NO
 VO\n 	Sábado | 16h- 17h | Piscina de 50m - NOVO\n 	Domingo | 8h - 9h | Pi
 scina 50m\n\n* Feriados o Jamor está encerrado\, é o caso do sábado\, d
 ia 1/11.\n\nValores\n\n 	Mensalidade: 25€\n 	6 treinos semanais incluíd
 os\n 	Pagamento deve ser feito para IBAN do Clube Swim4fun: PT50 0010 0000
  6348 2350 0015 6\n\nMateriais Necessários\n\n 	Touca e óculos\n 	Palas\
 n 	Pull buoy\n 	Prancha\n 	Snorkel frontal (tubo)\n 	Barbatanas\n 	Bandas 
 elásticas para aquecimento fora de água\n 	Garrafa de água\n\n
END:VEVENT
END:VCALENDAR