BEGIN:VCALENDAR
VERSION:2.0
PRODID:-//wp-events-plugin.com//7.2.3.1//EN
BEGIN:VEVENT
UID:74@clube-swim4fun.pt
DTSTART;VALUE=DATE:20251001
DTEND;VALUE=DATE:20251101
DTSTAMP:20251002T161740Z
URL:https://clube-swim4fun.pt/en/events/piscinas-jamor-outubro/
SUMMARY:Piscinas Jamor - OUTUBRO
DESCRIPTION:Horários dos Treinos\n\n 	Terça-feira | 13h30 | Piscina 50m\n
  	Quarta-feira | 6h30 | Piscina 25m\n 	Quinta-feira | 21h00 | Piscina 50m\
 n 	Domingo | 8h00 | Piscina 50m\n\n* Feriados o Jamor está encerrado\, é
  o caso do domingo\, dia 5/10.\n\nValores\n\n 	Mensalidade: 25€\n 	4 tre
 inos semanais incluídos\n 	Pagamento deve ser feito para IBAN do Clube Sw
 im4fun: PT50 0010 0000 6348 2350 0015 6\n\nMateriais Necessários\n\n 	Tou
 ca e óculos\n 	Palas\n 	Pull buoy\n 	Prancha\n 	Snorkel frontal *tubo(\n 
 	Barbatanas\n 	Bandas elásticas para aquecimento fora de água\n 	Garrafa
  de água\n\n
END:VEVENT
END:VCALENDAR