BEGIN:VCALENDAR
VERSION:2.0
PRODID:-//wp-events-plugin.com//7.2.3.1//EN
BEGIN:VEVENT
UID:101@clube-swim4fun.pt
DTSTART:20260308T100000Z
DTEND:20260308T120000Z
DTSTAMP:20260208T193102Z
URL:https://clube-swim4fun.pt/en/events/limpeza-de-praia-em-caxias-oeiras/
SUMMARY:Limpeza de praia em Caxias - Oeiras
DESCRIPTION:Swim4fun + Sustentabilidade em Ação\n\n 	Limpeza de praia em 
 Caxias - Oeiras\n\n8/3 - domingo\n\n10h as 12h\n\nInscrições:\n\nhttps:/
 /forms.gle/j4oaCjXmyXMMcsZU9
END:VEVENT
END:VCALENDAR