BEGIN:VCALENDAR
VERSION:2.0
PRODID:-//wp-events-plugin.com//7.2.3.1//EN
BEGIN:VEVENT
UID:108@clube-swim4fun.pt
DTSTART:20260607T120000Z
DTEND:20260607T160000Z
DTSTAMP:20260412T174353Z
URL:https://clube-swim4fun.pt/en/events/2a-prova-de-mar-da-praia-da-baixa-
 dareia-acores/
SUMMARY:2ª Prova de Mar da Praia da Baixa d'Areia - Açores
DESCRIPTION:https://clube-swim4fun.pt/cnaa-2a-prova-de-mar-da-praia-da-baix
 a-dareia/
CATEGORIES:Águas Abertas,Circuito Nacional,Masters
END:VEVENT
END:VCALENDAR