BEGIN:VCALENDAR
VERSION:2.0
PRODID:-//wp-events-plugin.com//7.2.3.1//EN
BEGIN:VEVENT
UID:107@clube-swim4fun.pt
DTSTART:20260607T120000Z
DTEND:20260607T160000Z
DTSTAMP:20260412T173547Z
URL:https://clube-swim4fun.pt/en/events/1a-etapa-cnaa-sao-miguel-acores/
SUMMARY:1ª etapa CNAA - São Miguel - Açores
DESCRIPTION:2ª Prova de Mar da Praia da Baixa d'Areia\nSobre o Evento\n\n\
 nHorário - Programa:\n12h30 - Abertura do secretariado / Acreditação do
 s nadadores\n13h30 - Fecho do secretariado\n13h45 - Briefing\n14h00 - Part
 ida da prova de 400m e 800m\n14h30 – Partida da prova de 3500m\n\n\n400m
  - A participação na prova de 400m está aberta a todos os que nela dese
 jem participar com a condição de apresentação de Termo de Responsabil
 idade.\n\n800m - A participação na prova de 800m está aberta a todos os
  que nela desejem participar com a condição de apresentação de Termo
  de Tesponsabilidade.\n\n3.500m - A Prova de 3.500m é aberta a todos os i
 nteressados\, com idade igual ou superior ao escalão AA14/15 e filiados e
 m Águas Abertas inclusive Masters.\nEsta prova é válida para o XIX Circ
 uito Nacional de Águas Abertas.\n\nPercurso\nProva de 3500m: os nadadores
  terão de completar o percurso durante 3 voltas\, conforme esquema abaixo
  assinalado a amarelo. O percurso será cumprido no sentido anti-horário\
 , ficando a boia de contorno obrigatório\, à esquerda dos nadadores. As 
 boias têm obrigatoriamente de ser contornadas de acordo com o indicado\, 
 sob pena de desclassificação. Na partida e chegada a primeira boia não 
 é de contorno obrigatório.\n\nProva de 400m: os nadadores terão de comp
 letar o percurso durante 1 volta\, conforme esquema abaixo sendo o percurs
 o assinalado a vermelho. O percurso será cumprido no sentido anti-horári
 o\, ficando a boia de contorno obrigatório\, à esquerda dos nadadores. A
 s boias têm obrigatoriamente de ser contornadas de acordo com o indicado\
 , sob pena de desclassificação.\n\nProva de 800m: os nadadores terão de
  completar o percurso durante 2 voltas\, conforme esquema abaixo sendo o p
 ercurso assinalado a vermelho. O percurso será cumprido no sentido anti-h
 orário\, ficando a boia de contorno obrigatório\, à esquerda dos nadado
 res. As boias têm obrigatoriamente de ser contornadas de acordo com o ind
 icado\, sob pena de desclassificação.\n\nNota: Os percursos apresentados
  poderão ser alterados no dia da prova por motivos de segurança\, más c
 ondições atmosféricas ou outros.\n\nO Clube Desportivo Escolar de Água
  de Pau irá disponibilizar alojamento e refeições para os dias 5 a 7 Ju
 nho a preços acessíveis\n\n1775143423-Regulamento_BaixaAreia2026
CATEGORIES:Águas Abertas,Circuito Nacional,Masters
END:VEVENT
END:VCALENDAR